BEGIN:VCALENDAR
VERSION:2.0
PRODID:-//https://kunming-afchine.org///NONSGML kigkonsult.se iCalcreator 2.10.15//
METHOD:PUBLISH
BEGIN:VEVENT
UID:20260420T203530UTC-7686g4oVLn@https://kunming-afchine.org/
DTSTAMP:20260420T203530Z
DESCRIPTION: https://kunming-afchine.org/certifications-et-diplomes/inscrip
 tion-aux-tests-et-certifications/calendrier-sessions/event/10-tcf-canada--
 -24-avril-2026
DTSTART;VALUE=DATE:20260424
LOCATION:Alliance Française de Kunming (Yunnan Province\, Kunming City\, Cu
 ihu North Road No. 2\, Yunnan University\, Donglu Campus\, Nanxue Building
 \, 1st Floor\, Postal Code: 650091)
SUMMARY:TCF Canada 🍁 📄 — 24 avril 2026
URL:https://kunming-afchine.org/certifications-et-diplomes/inscription-aux-
 tests-et-certifications/calendrier-sessions/event/10-tcf-canada---24-avril
 -2026
END:VEVENT
BEGIN:VEVENT
UID:20260420T203530UTC-7689UEGO5t@https://kunming-afchine.org/
DTSTAMP:20260420T203530Z
DESCRIPTION: https://kunming-afchine.org/certifications-et-diplomes/inscrip
 tion-aux-tests-et-certifications/calendrier-sessions/event/11-tcf-canada--
 -8-mai-2026
DTSTART;VALUE=DATE:20260508
LOCATION:Alliance Française de Kunming (Yunnan Province\, Kunming City\, Cu
 ihu North Road No. 2\, Yunnan University\, Donglu Campus\, Nanxue Building
 \, 1st Floor\, Postal Code: 650091)
SUMMARY:TCF Canada 🍁 💻 — 8 mai 2026
URL:https://kunming-afchine.org/certifications-et-diplomes/inscription-aux-
 tests-et-certifications/calendrier-sessions/event/11-tcf-canada---8-mai-20
 26
END:VEVENT
BEGIN:VEVENT
UID:20260420T203530UTC-7690n1P2dw@https://kunming-afchine.org/
DTSTAMP:20260420T203530Z
DESCRIPTION: https://kunming-afchine.org/certifications-et-diplomes/inscrip
 tion-aux-tests-et-certifications/calendrier-sessions/event/12-tcf-canada--
 -22-mai-2026
DTSTART;VALUE=DATE:20260522
LOCATION:Alliance Française de Kunming (Yunnan Province\, Kunming City\, Cu
 ihu North Road No. 2\, Yunnan University\, Donglu Campus\, Nanxue Building
 \, 1st Floor\, Postal Code: 650091)
SUMMARY:TCF Canada 🍁 📄 — 22 mai 2026
URL:https://kunming-afchine.org/certifications-et-diplomes/inscription-aux-
 tests-et-certifications/calendrier-sessions/event/12-tcf-canada---22-mai-2
 026
END:VEVENT
BEGIN:VEVENT
UID:20260420T203530UTC-7691JCKs98@https://kunming-afchine.org/
DTSTAMP:20260420T203530Z
DESCRIPTION: https://kunming-afchine.org/certifications-et-diplomes/inscrip
 tion-aux-tests-et-certifications/calendrier-sessions/event/13-tcf-canada--
 -2-juin-2026
DTSTART;VALUE=DATE:20260602
LOCATION:Alliance Française de Kunming (Yunnan Province\, Kunming City\, Cu
 ihu North Road No. 2\, Yunnan University\, Donglu Campus\, Nanxue Building
 \, 1st Floor\, Postal Code: 650091)
SUMMARY:TCF Canada 🍁 💻 — 2 juin 2026
URL:https://kunming-afchine.org/certifications-et-diplomes/inscription-aux-
 tests-et-certifications/calendrier-sessions/event/13-tcf-canada---2-juin-2
 026
END:VEVENT
BEGIN:VEVENT
UID:20260420T203530UTC-7692ukFIiu@https://kunming-afchine.org/
DTSTAMP:20260420T203530Z
DESCRIPTION: https://kunming-afchine.org/certifications-et-diplomes/inscrip
 tion-aux-tests-et-certifications/calendrier-sessions/event/14-tcf-canada--
 -26-juin-2026
DTSTART;VALUE=DATE:20260626
LOCATION:Alliance Française de Kunming (Yunnan Province\, Kunming City\, Cu
 ihu North Road No. 2\, Yunnan University\, Donglu Campus\, Nanxue Building
 \, 1st Floor\, Postal Code: 650091)
SUMMARY:TCF Canada 🍁 📄 — 26 juin 2026
URL:https://kunming-afchine.org/certifications-et-diplomes/inscription-aux-
 tests-et-certifications/calendrier-sessions/event/14-tcf-canada---26-juin-
 2026
END:VEVENT
BEGIN:VEVENT
UID:20260420T203530UTC-7693nVkuJj@https://kunming-afchine.org/
DTSTAMP:20260420T203530Z
DESCRIPTION: https://kunming-afchine.org/certifications-et-diplomes/inscrip
 tion-aux-tests-et-certifications/calendrier-sessions/event/15-tcf-canada--
 -7-juillet-2026
DTSTART;VALUE=DATE:20260707
LOCATION:Alliance Française de Kunming (Yunnan Province\, Kunming City\, Cu
 ihu North Road No. 2\, Yunnan University\, Donglu Campus\, Nanxue Building
 \, 1st Floor\, Postal Code: 650091)
SUMMARY:TCF Canada 🍁 💻 — 7 juillet 2026
URL:https://kunming-afchine.org/certifications-et-diplomes/inscription-aux-
 tests-et-certifications/calendrier-sessions/event/15-tcf-canada---7-juille
 t-2026
END:VEVENT
BEGIN:VEVENT
UID:20260420T203530UTC-7694RJUVvw@https://kunming-afchine.org/
DTSTAMP:20260420T203530Z
DESCRIPTION: https://kunming-afchine.org/certifications-et-diplomes/inscrip
 tion-aux-tests-et-certifications/calendrier-sessions/event/16-tcf-canada--
 -24-juillet-2026
DTSTART;VALUE=DATE:20260724
LOCATION:Alliance Française de Kunming (Yunnan Province\, Kunming City\, Cu
 ihu North Road No. 2\, Yunnan University\, Donglu Campus\, Nanxue Building
 \, 1st Floor\, Postal Code: 650091)
SUMMARY:TCF Canada 🍁 📄 — 24 juillet 2026
URL:https://kunming-afchine.org/certifications-et-diplomes/inscription-aux-
 tests-et-certifications/calendrier-sessions/event/16-tcf-canada---24-juill
 et-2026
END:VEVENT
BEGIN:VEVENT
UID:20260420T203530UTC-7695Dgs0Dc@https://kunming-afchine.org/
DTSTAMP:20260420T203530Z
DESCRIPTION: https://kunming-afchine.org/certifications-et-diplomes/inscrip
 tion-aux-tests-et-certifications/calendrier-sessions/event/17-tcf-canada--
 -4-aout-2026
DTSTART;VALUE=DATE:20260804
LOCATION:Alliance Française de Kunming (Yunnan Province\, Kunming City\, Cu
 ihu North Road No. 2\, Yunnan University\, Donglu Campus\, Nanxue Building
 \, 1st Floor\, Postal Code: 650091)
SUMMARY:TCF Canada 🍁 💻 — 4 août 2026
URL:https://kunming-afchine.org/certifications-et-diplomes/inscription-aux-
 tests-et-certifications/calendrier-sessions/event/17-tcf-canada---4-aout-2
 026
END:VEVENT
BEGIN:VEVENT
UID:20260420T203530UTC-7696EAzEja@https://kunming-afchine.org/
DTSTAMP:20260420T203530Z
DESCRIPTION: https://kunming-afchine.org/certifications-et-diplomes/inscrip
 tion-aux-tests-et-certifications/calendrier-sessions/event/27-tef-canada--
 -16-juin-2026
DTSTART;VALUE=DATE:20260616
LOCATION:Alliance Française de Kunming (Yunnan Province\, Kunming City\, Cu
 ihu North Road No. 2\, Yunnan University\, Donglu Campus\, Nanxue Building
 \, 1st Floor\, Postal Code: 650091)
SUMMARY:TEF Canada 🍁 💻 — 16 juin 2026
URL:https://kunming-afchine.org/certifications-et-diplomes/inscription-aux-
 tests-et-certifications/calendrier-sessions/event/27-tef-canada---16-juin-
 2026
END:VEVENT
BEGIN:VEVENT
UID:20260420T203530UTC-7697T5V4JP@https://kunming-afchine.org/
DTSTAMP:20260420T203530Z
DESCRIPTION: https://kunming-afchine.org/certifications-et-diplomes/inscrip
 tion-aux-tests-et-certifications/calendrier-sessions/event/30-tefaq---9-ju
 in-2026
DTSTART;VALUE=DATE:20260609
LOCATION:Alliance Française de Kunming (Yunnan Province\, Kunming City\, Cu
 ihu North Road No. 2\, Yunnan University\, Donglu Campus\, Nanxue Building
 \, 1st Floor\, Postal Code: 650091)
SUMMARY:TEFAQ ⚜️ 💻 — 9 juin 2026
URL:https://kunming-afchine.org/certifications-et-diplomes/inscription-aux-
 tests-et-certifications/calendrier-sessions/event/30-tefaq---9-juin-2026
END:VEVENT
END:VCALENDAR
